BEGIN:VCALENDAR
VERSION:2.0
PRODID:-//hacksw/handcal//NONSGML v1.0//EN
BEGIN:VEVENT
SUMMARY:Tournoi
UID:b1a9302a-9cde-448a-8fbd-6e0768b9d912
DTSTART:20260222T090000Z
DTEND:20260222T130000Z
LOCATION:Localisation   
CATEGORIES:Sportif
STATUS:
DESCRIPTION:<p>Le tournoi organise par le club se deroulera dans la
 salle municipale.<br>Les prix seront remis en soiree.</p>
URL;VALUE=URI:https://kickbo.sportsregions.fr/evenements/2026/02/22/tournoi-2419240
END:VEVENT
END:VCALENDAR
